BEGIN:VCALENDAR
VERSION:2.0
PRODID:El Segundo Recreation & Parks Calendar Creator
METHOD:PUBLISH
BEGIN:VEVENT
DTSTAMP:20260422T111507
DTSTART:20260606T000000
DTEND:20260606T235900
SUMMARY:The Plunge Grand Opening
DESCRIPTION:
X-ALT-DESC;FMTTYPE=text/html:
LOCATION:
CLASS:PUBLIC
END:VEVENT
END:VCALENDAR
